BEGIN:VCALENDAR
VERSION:2.0
PRODID:-//jEvents 2.0 for Joomla//EN
CALSCALE:GREGORIAN
METHOD:PUBLISH
BEGIN:VEVENT
UID:FT_2022_feiertag61020243c8696@schulferien.org
CATEGORIES:Ferien Baden-Württemberg
CREATED:20211030T151639
SUMMARY:Fronleichnam
DESCRIPTION;ENCODING=QUOTED-PRINTABLE:Alle Termine auf www.schulferien.org
DTSTAMP:20260422T215343Z
DTSTART;VALUE=DATE:20220616
DTEND;VALUE=DATE:20220617
SEQUENCE:0
TRANSP:OPAQUE
END:VEVENT
END:VCALENDAR