BEGIN:VCALENDAR
VERSION:2.0
PRODID:-//jEvents 2.0 for Joomla//EN
CALSCALE:GREGORIAN
METHOD:PUBLISH
BEGIN:VEVENT
UID:F_2022_termin61020243d2292@schulferien.org
CATEGORIES:Ferien Baden-Württemberg
CREATED:20211030T151558
SUMMARY:Herbstferien 2022 Baden-Württemberg
DESCRIPTION;ENCODING=QUOTED-PRINTABLE:Alle Termine auf www.schulferien.org
DTSTAMP:20260423T061235Z
DTSTART;VALUE=DATE:20221031
DTEND;VALUE=DATE:20221101
SEQUENCE:0
TRANSP:OPAQUE
END:VEVENT
END:VCALENDAR