BEGIN:VCALENDAR
VERSION:2.0
PRODID:-//jEvents 2.0 for Joomla//EN
CALSCALE:GREGORIAN
METHOD:PUBLISH
BEGIN:VEVENT
UID:8b2cbb764e646315581b6dde3f3aa806
CATEGORIES:Dienstplan Jugendfeuerwehr
CREATED:20211011T201031
SUMMARY:Jahreshauptversammlung
DESCRIPTION;ENCODING=QUOTED-PRINTABLE:\n\nTermin nur für Jugendleiter und Jugendfeuerwehrausschuss.\n
DTSTAMP:20260422T114649Z
DTSTART:20211016T173000Z
DTEND:20211016T193000Z
SEQUENCE:0
TRANSP:OPAQUE
END:VEVENT
END:VCALENDAR