BEGIN:VCALENDAR
VERSION:2.0
PRODID:-//jEvents 2.0 for Joomla//EN
CALSCALE:GREGORIAN
METHOD:PUBLISH
BEGIN:VEVENT
UID:AAAAAOKceKdAuZdDqVkQIpR/QYQkCyAA
CATEGORIES:Dienstplan Einsatzabteilung 
CREATED:20210530T102810
SUMMARY:Maschinisten - Wasserentnahme / Pumpenbetrieb
LOCATION:Schwieberdingen
DESCRIPTION;ENCODING=QUOTED-PRINTABLE:Übung - Maschinisten - Themenblock: Wasserentnahme / Pumpenbetrieb - Ausbil
 dung in Einzelübung nach interner Absprche zwischen Ausbilder und Maschinis
 ten - Ausbilder: SW
DTSTAMP:20260422T034722Z
DTSTART:20210623T170000Z
DTEND:20210623T183000Z
SEQUENCE:0
TRANSP:OPAQUE
END:VEVENT
END:VCALENDAR