BEGIN:VCALENDAR
VERSION:2.0
PRODID:-//jEvents 2.0 for Joomla//EN
CALSCALE:GREGORIAN
METHOD:PUBLISH
BEGIN:VEVENT
UID:AAAAAOKceKdAuZdDqVkQIpR/QYTkCSAA
CATEGORIES:Dienstplan Einsatzabteilung 
CREATED:20210530T102810
SUMMARY:Maschinisten - Wasserentnahme / Pumpenbetrieb
LOCATION:Schwieberdingen
DESCRIPTION;ENCODING=QUOTED-PRINTABLE:Übung - Maschinisten - Themenblock: Wasserentnahme / Pumpenbetrieb - Ausbil
 dung in Einzelübung nach interner Absprche zwischen Ausbilder und Maschinis
 ten - Ausbilder: WT
DTSTAMP:20260422T023939Z
DTSTART:20210531T173000Z
DTEND:20210531T190000Z
SEQUENCE:0
TRANSP:OPAQUE
END:VEVENT
END:VCALENDAR