BEGIN:VCALENDAR
VERSION:2.0
PRODID:-//jEvents 2.0 for Joomla//EN
CALSCALE:GREGORIAN
METHOD:PUBLISH
BEGIN:VEVENT
UID:AAAAAOKceKdAuZdDqVkQIpR/QYRECSAA
CATEGORIES:Dienstplan Einsatzabteilung 
CREATED:20210530T102810
SUMMARY:BLAU - THL / Rettungstechniken PKW
LOCATION:Schwieberdingen
DESCRIPTION;ENCODING=QUOTED-PRINTABLE:Übung - BLAU - Themenblock: THL / Rettungstechniken PKW - Ausbilder: KB / M
 H
DTSTAMP:20260422T105859Z
DTSTART:20211108T190000Z
DTEND:20211108T203000Z
SEQUENCE:0
TRANSP:OPAQUE
END:VEVENT
END:VCALENDAR