BEGIN:VCALENDAR
VERSION:2.0
PRODID:-//jEvents 2.0 for Joomla//EN
CALSCALE:GREGORIAN
METHOD:PUBLISH
BEGIN:VEVENT
UID:AAAAAOKceKdAuZdDqVkQIpR/QYQkCSAA
CATEGORIES:Dienstplan Einsatzabteilung 
CREATED:20210530T102810
SUMMARY:GRÜN - THL / Rettungstechniken PKW
LOCATION:Schwieberdingen
DESCRIPTION;ENCODING=QUOTED-PRINTABLE:Übung - GRÜN - Themenblock: THL / Rettungstechniken PKW - Ausbilder: KB / M
 H
DTSTAMP:20260422T090607Z
DTSTART:20211025T180000Z
DTEND:20211025T193000Z
SEQUENCE:0
TRANSP:OPAQUE
END:VEVENT
END:VCALENDAR