BEGIN:VCALENDAR
VERSION:2.0
PRODID:-//jEvents 2.0 for Joomla//EN
CALSCALE:GREGORIAN
METHOD:PUBLISH
BEGIN:VEVENT
UID:AAAAAOKceKdAuZdDqVkQIpR/QYQECSAA
CATEGORIES:Dienstplan Einsatzabteilung 
CREATED:20210530T102810
SUMMARY:GELB - THL / Rettungstechniken PKW
LOCATION:Schwieberdingen
DESCRIPTION;ENCODING=QUOTED-PRINTABLE:Übung - GELB - Themenblock: THL / Rettungstechniken PKW - Ausbilder: KB / M
 H
DTSTAMP:20260422T090612Z
DTSTART:20211018T180000Z
DTEND:20211018T193000Z
SEQUENCE:0
TRANSP:OPAQUE
END:VEVENT
END:VCALENDAR