BEGIN:VCALENDAR
VERSION:2.0
PRODID:-//jEvents 2.0 for Joomla//EN
CALSCALE:GREGORIAN
METHOD:PUBLISH
BEGIN:VEVENT
UID:AAAAAOKceKdAuZdDqVkQIpR/QYTkCCAA
CATEGORIES:Dienstplan Einsatzabteilung 
CREATED:20210530T102810
SUMMARY:ROT - THL / Rettungstechniken PKW
LOCATION:Schwieberdingen
DESCRIPTION;ENCODING=QUOTED-PRINTABLE:Übung - ROT - Themenblock: THL / Rettungstechniken PKW - Ausbilder: KB / MH
DTSTAMP:20260422T110007Z
DTSTART:20211011T180000Z
DTEND:20211011T193000Z
SEQUENCE:0
TRANSP:OPAQUE
END:VEVENT
END:VCALENDAR