BEGIN:VCALENDAR
VERSION:2.0
PRODID:-//jEvents 2.0 for Joomla//EN
CALSCALE:GREGORIAN
METHOD:PUBLISH
BEGIN:VEVENT
UID:AAAAAOKceKdAuZdDqVkQIpR/QYSkCCAA
CATEGORIES:Dienstplan Einsatzabteilung 
CREATED:20210530T102810
SUMMARY:GRÜN - THL / Ordnung des Raumes
LOCATION:Schwieberdingen
DESCRIPTION;ENCODING=QUOTED-PRINTABLE:Übung - GRÜN - Themenblock: THL / Ordnung des Raumes - Ausbilder: KB / MH
DTSTAMP:20260422T075921Z
DTSTART:20210927T180000Z
DTEND:20210927T193000Z
SEQUENCE:0
TRANSP:OPAQUE
END:VEVENT
END:VCALENDAR