BEGIN:VCALENDAR
VERSION:2.0
PRODID:-//jEvents 2.0 for Joomla//EN
CALSCALE:GREGORIAN
METHOD:PUBLISH
BEGIN:VEVENT
UID:436763fcf27c4ef5110f7c85fac3331c
CATEGORIES:Dienstplan Einsatzabteilung 
CREATED:20210530T095000
SUMMARY:BLAU - Löschmittel 
LOCATION:Schwieberdingen
DESCRIPTION;ENCODING=QUOTED-PRINTABLE:<p>Übung - BLAU - Themenblock: Löschmittel - Ausbilder: BB / PA</p>
DTSTAMP:20260422T073618Z
DTSTART:20210726T180000Z
DTEND:20210726T193000Z
SEQUENCE:0
TRANSP:OPAQUE
END:VEVENT
END:VCALENDAR