BEGIN:VCALENDAR
VERSION:2.0
PRODID:-//jEvents 2.0 for Joomla//EN
CALSCALE:GREGORIAN
METHOD:PUBLISH
BEGIN:VEVENT
UID:5284db9aa711fe8adbc419a878b8ddd5
CATEGORIES:Dienstplan Einsatzabteilung 
CREATED:20210530T094920
SUMMARY:GRÜN - Löschmittel 
LOCATION:Schwieberdingen
DESCRIPTION;ENCODING=QUOTED-PRINTABLE:\n\nÜbung - GRÜN - Themenblock: Löschmittel - Ausbilder: BB / PA\n
DTSTAMP:20260422T050507Z
DTSTART:20210719T180000Z
DTEND:20210719T193000Z
SEQUENCE:0
TRANSP:OPAQUE
END:VEVENT
END:VCALENDAR