BEGIN:VCALENDAR
VERSION:2.0
PRODID:-//jEvents 2.0 for Joomla//EN
CALSCALE:GREGORIAN
METHOD:PUBLISH
BEGIN:VEVENT
UID:f78f9d119168a4635c1c217746666c40
CATEGORIES:Dienstplan Einsatzabteilung 
CREATED:20210530T094848
SUMMARY:GELB - Löschmittel 
LOCATION:Schwieberdingen
DESCRIPTION;ENCODING=QUOTED-PRINTABLE:<p>Übung - GELB - Themenblock: Löschmittel - Ausbilder: BB / PA</p>
DTSTAMP:20260422T073553Z
DTSTART:20210712T180000Z
DTEND:20210712T193000Z
SEQUENCE:0
TRANSP:OPAQUE
END:VEVENT
END:VCALENDAR