BEGIN:VCALENDAR
VERSION:2.0
PRODID:-//jEvents 2.0 for Joomla//EN
CALSCALE:GREGORIAN
METHOD:PUBLISH
BEGIN:VEVENT
UID:f9c251aa6768a418154e7a9b83252c13
CATEGORIES:Dienstplan Einsatzabteilung 
CREATED:20210530T094801
SUMMARY:ROT - Löschmittel 
LOCATION:Schwieberdingen
DESCRIPTION;ENCODING=QUOTED-PRINTABLE:\n\nÜbung - ROT - Themenblock: Löschmittel - Ausbilder: BB / PA\n
DTSTAMP:20260422T053248Z
DTSTART:20210705T180000Z
DTEND:20210705T193000Z
SEQUENCE:0
TRANSP:OPAQUE
END:VEVENT
END:VCALENDAR