BEGIN:VCALENDAR
VERSION:2.0
PRODID:-//jEvents 2.0 for Joomla//EN
CALSCALE:GREGORIAN
METHOD:PUBLISH
BEGIN:VEVENT
UID:CSVConvertf68e45326707f764e8b692de1e5e2ec9
CATEGORIES:Dienstplan Jugendfeuerwehr
CREATED:20210110T212758
SUMMARY:Übung - 111 - GELB
LOCATION:Schwieberdingen
DESCRIPTION;ENCODING=QUOTED-PRINTABLE:\n\nBemerkungen:\nJugendfeuerwehr im Homeoffice, bitte die Links auf der Ho
 mepage beachten!\n
DTSTAMP:20260422T113051Z
DTSTART:20211125T173000Z
DTEND:20211125T190000Z
SEQUENCE:0
TRANSP:OPAQUE
END:VEVENT
END:VCALENDAR