BEGIN:VCALENDAR
VERSION:2.0
PRODID:-//jEvents 2.0 for Joomla//EN
CALSCALE:GREGORIAN
METHOD:PUBLISH
BEGIN:VEVENT
UID:CSVConvertf064044d3f7141c828621556efa01919
CATEGORIES:Dienstplan Jugendfeuerwehr
CREATED:20210110T212758
SUMMARY:Übung - 11 - GELB
LOCATION:Schwieberdingen
DESCRIPTION;ENCODING=QUOTED-PRINTABLE:Bemerkungen: UVV / Jugendordnung / Spaß und Spiel - Anzugsordnung: Uniform 
 - Teilnehmerkreis: GELB
DTSTAMP:20260422T022201Z
DTSTART:20210114T173000Z
DTEND:20210114T190000Z
SEQUENCE:0
TRANSP:OPAQUE
END:VEVENT
END:VCALENDAR