BEGIN:VCALENDAR
VERSION:2.0
PRODID:-//jEvents 2.0 for Joomla//EN
CALSCALE:GREGORIAN
METHOD:PUBLISH
BEGIN:VEVENT
UID:CSVConvertedaffa947b7fdce649b13e3b9be4eb0e
CATEGORIES:Dienstplan Jugendfeuerwehr
CREATED:20210110T212758
SUMMARY:Übung - 82 - ORANGE
LOCATION:Schwieberdingen
DESCRIPTION;ENCODING=QUOTED-PRINTABLE:Bemerkungen:  - Anzugsordnung: Uniform - Teilnehmerkreis: ORANGE
DTSTAMP:20260422T102406Z
DTSTART:20210923T163000Z
DTEND:20210923T180000Z
SEQUENCE:0
TRANSP:OPAQUE
END:VEVENT
END:VCALENDAR