BEGIN:VCALENDAR
VERSION:2.0
PRODID:-//jEvents 2.0 for Joomla//EN
CALSCALE:GREGORIAN
METHOD:PUBLISH
BEGIN:VEVENT
UID:CSVConvertec05e932250c7eaf051db1f03ccd9272
CATEGORIES:Dienstplan Jugendfeuerwehr
CREATED:20210110T212758
SUMMARY:Übung - 43 - ROT
LOCATION:Schwieberdingen
DESCRIPTION;ENCODING=QUOTED-PRINTABLE:Bemerkungen: Funkübung - Anzugsordnung: Uniform - Teilnehmerkreis: ROT
DTSTAMP:20260422T022426Z
DTSTART:20210422T163000Z
DTEND:20210422T180000Z
SEQUENCE:0
TRANSP:OPAQUE
END:VEVENT
END:VCALENDAR