BEGIN:VCALENDAR
VERSION:2.0
PRODID:-//jEvents 2.0 for Joomla//EN
CALSCALE:GREGORIAN
METHOD:PUBLISH
BEGIN:VEVENT
UID:CSVConvertcf797ed554ebb6ae5c376cf63d1f17a4
CATEGORIES:Dienstplan Jugendfeuerwehr
CREATED:20210110T212758
SUMMARY:Helfertag
LOCATION:Schwieberdingen
DESCRIPTION;ENCODING=QUOTED-PRINTABLE:Bemerkungen:  - Anzugsordnung: Uniform - Teilnehmerkreis: alle
DTSTAMP:20260422T102728Z
DTSTART:20211029T050000Z
DTEND:20211029T150000Z
SEQUENCE:0
TRANSP:OPAQUE
END:VEVENT
END:VCALENDAR