BEGIN:VCALENDAR
VERSION:2.0
PRODID:-//jEvents 2.0 for Joomla//EN
CALSCALE:GREGORIAN
METHOD:PUBLISH
BEGIN:VEVENT
UID:CSVConvertc9cc1b59326e0652ffabcf4eb055ca72
CATEGORIES:Dienstplan Jugendfeuerwehr
CREATED:20210110T212758
SUMMARY:Übung - 71 - GELB
LOCATION:Schwieberdingen
DESCRIPTION;ENCODING=QUOTED-PRINTABLE:Bemerkungen:  - Anzugsordnung: Uniform - Teilnehmerkreis: GELB
DTSTAMP:20260422T073557Z
DTSTART:20210701T163000Z
DTEND:20210701T180000Z
SEQUENCE:0
TRANSP:OPAQUE
END:VEVENT
END:VCALENDAR