BEGIN:VCALENDAR
VERSION:2.0
PRODID:-//jEvents 2.0 for Joomla//EN
CALSCALE:GREGORIAN
METHOD:PUBLISH
BEGIN:VEVENT
UID:CSVConvertc321f2b4e87ccc7eaf32064bc6dbc839
CATEGORIES:Dienstplan Jugendfeuerwehr
CREATED:20210110T212757
SUMMARY:Übung - 93 - ROT
LOCATION:Schwieberdingen
DESCRIPTION;ENCODING=QUOTED-PRINTABLE:Bemerkungen:  - Anzugsordnung: Uniform - Teilnehmerkreis: ROT
DTSTAMP:20260422T102406Z
DTSTART:20211021T163000Z
DTEND:20211021T180000Z
SEQUENCE:0
TRANSP:OPAQUE
END:VEVENT
END:VCALENDAR