BEGIN:VCALENDAR
VERSION:2.0
PRODID:-//jEvents 2.0 for Joomla//EN
CALSCALE:GREGORIAN
METHOD:PUBLISH
BEGIN:VEVENT
UID:CSVConvertbc1119479e6bdf88f460af1998699a45
CATEGORIES:Dienstplan Jugendfeuerwehr
CREATED:20210110T212757
SUMMARY:Ferienspiel
LOCATION:Schwieberdingen
DESCRIPTION;ENCODING=QUOTED-PRINTABLE:Bemerkungen: Termin noch nicht bestätigt - Anzugsordnung: Uniform - Teilneh
 merkreis: JL
DTSTAMP:20260422T102702Z
DTSTART:20210903T110000Z
DTEND:20210903T160000Z
SEQUENCE:0
TRANSP:OPAQUE
END:VEVENT
END:VCALENDAR