BEGIN:VCALENDAR
VERSION:2.0
PRODID:-//jEvents 2.0 for Joomla//EN
CALSCALE:GREGORIAN
METHOD:PUBLISH
BEGIN:VEVENT
UID:CSVConverta068e0023cc0934c5daf02facf298cd3
CATEGORIES:Dienstplan Jugendfeuerwehr
CREATED:20210110T212757
SUMMARY:Übung - 103 - ROT
LOCATION:Schwieberdingen
DESCRIPTION;ENCODING=QUOTED-PRINTABLE:Bemerkungen:  - Anzugsordnung: Uniform - Teilnehmerkreis: ROT
DTSTAMP:20260422T111521Z
DTSTART:20211118T173000Z
DTEND:20211118T190000Z
SEQUENCE:0
TRANSP:OPAQUE
END:VEVENT
END:VCALENDAR