BEGIN:VCALENDAR
VERSION:2.0
PRODID:-//jEvents 2.0 for Joomla//EN
CALSCALE:GREGORIAN
METHOD:PUBLISH
BEGIN:VEVENT
UID:CSVConvert9e669bf4b9e413dac403217e950dba5d
CATEGORIES:Dienstplan Jugendfeuerwehr
CREATED:20210110T212757
SUMMARY:Übung - 73 - ROT
LOCATION:Schwieberdingen
DESCRIPTION;ENCODING=QUOTED-PRINTABLE:Bemerkungen:  - Anzugsordnung: Uniform - Teilnehmerkreis: ROT
DTSTAMP:20260422T073628Z
DTSTART:20210715T163000Z
DTEND:20210715T180000Z
SEQUENCE:0
TRANSP:OPAQUE
END:VEVENT
END:VCALENDAR