BEGIN:VCALENDAR
VERSION:2.0
PRODID:-//jEvents 2.0 for Joomla//EN
CALSCALE:GREGORIAN
METHOD:PUBLISH
BEGIN:VEVENT
UID:CSVConvert86838e4028fb59d29530a2130a10398f
CATEGORIES:Dienstplan Jugendfeuerwehr
CREATED:20210110T212757
SUMMARY:Übung - 12 - ORANGE
LOCATION:Schwieberdingen
DESCRIPTION;ENCODING=QUOTED-PRINTABLE:Bemerkungen: UVV / Jugendordnung / Spaß und Spiel - Anzugsordnung: Uniform 
 - Teilnehmerkreis: ORANGE
DTSTAMP:20260421T231316Z
DTSTART:20210121T173000Z
DTEND:20210121T190000Z
SEQUENCE:0
TRANSP:OPAQUE
END:VEVENT
END:VCALENDAR