BEGIN:VCALENDAR
VERSION:2.0
PRODID:-//jEvents 2.0 for Joomla//EN
CALSCALE:GREGORIAN
METHOD:PUBLISH
BEGIN:VEVENT
UID:CSVConvert8506ad699ff6d7168c9d558823a2b7e8
CATEGORIES:Dienstplan Jugendfeuerwehr
CREATED:20210110T212757
SUMMARY:Übung - 92 - ORANGE
LOCATION:Schwieberdingen
DESCRIPTION;ENCODING=QUOTED-PRINTABLE:Bemerkungen:  - Anzugsordnung: Uniform - Teilnehmerkreis: ORANGE
DTSTAMP:20260422T102447Z
DTSTART:20211014T163000Z
DTEND:20211014T180000Z
SEQUENCE:0
TRANSP:OPAQUE
END:VEVENT
END:VCALENDAR