BEGIN:VCALENDAR
VERSION:2.0
PRODID:-//jEvents 2.0 for Joomla//EN
CALSCALE:GREGORIAN
METHOD:PUBLISH
BEGIN:VEVENT
UID:CSVConvert61b68e481a0bea96f5eee66d2f4ff8d0
CATEGORIES:Dienstplan Jugendfeuerwehr
CREATED:20210110T212757
SUMMARY:Übung - 13 - ROT
LOCATION:Schwieberdingen
DESCRIPTION;ENCODING=QUOTED-PRINTABLE:Bemerkungen: UVV / Jugendordnung / Spaß und Spiel - Anzugsordnung: Uniform 
 - Teilnehmerkreis: ROT
DTSTAMP:20260421T232611Z
DTSTART:20210128T173000Z
DTEND:20210128T190000Z
SEQUENCE:0
TRANSP:OPAQUE
END:VEVENT
END:VCALENDAR