BEGIN:VCALENDAR
VERSION:2.0
PRODID:-//jEvents 2.0 for Joomla//EN
CALSCALE:GREGORIAN
METHOD:PUBLISH
BEGIN:VEVENT
UID:CSVConvert56e286c86013b0dea297ed7b3b55f5eb
CATEGORIES:Dienstplan Jugendfeuerwehr
CREATED:20210110T212757
SUMMARY:Übung - 32 - ORANGE
LOCATION:Schwieberdingen
DESCRIPTION;ENCODING=QUOTED-PRINTABLE:Bemerkungen: Jerusalema Challenge / Spaß und Spiel - Anzugsordnung: Uniform
  - Teilnehmerkreis: ORANGE
DTSTAMP:20260422T005150Z
DTSTART:20210311T173000Z
DTEND:20210311T190000Z
SEQUENCE:0
TRANSP:OPAQUE
END:VEVENT
END:VCALENDAR