BEGIN:VCALENDAR
VERSION:2.0
PRODID:-//jEvents 2.0 for Joomla//EN
CALSCALE:GREGORIAN
METHOD:PUBLISH
BEGIN:VEVENT
UID:CSVConvert493df99628b8756db30465ecb1d3b73d
CATEGORIES:Dienstplan Jugendfeuerwehr
CREATED:20210110T212757
SUMMARY:Übung - 113 - ROT
LOCATION:Schwieberdingen
DESCRIPTION;ENCODING=QUOTED-PRINTABLE:\n\nBemerkungen:\nJugendfeuerwehr im Homeoffice, bitte die Links auf der Ho
 mepage beachten!\n
DTSTAMP:20260422T124116Z
DTSTART:20211209T173000Z
DTEND:20211209T190000Z
SEQUENCE:0
TRANSP:OPAQUE
END:VEVENT
END:VCALENDAR