BEGIN:VCALENDAR
VERSION:2.0
PRODID:-//jEvents 2.0 for Joomla//EN
CALSCALE:GREGORIAN
METHOD:PUBLISH
BEGIN:VEVENT
UID:CSVConvert207ed970e888c727f6cc9465c32a4869
CATEGORIES:Dienstplan Jugendfeuerwehr
CREATED:20210110T212757
SUMMARY:Aktionstag Tripsdrill
LOCATION:Tripsdrill
DESCRIPTION;ENCODING=QUOTED-PRINTABLE:Bemerkungen: Tagesausflug in den Erlebnispark Tripsdrill - Anzugsordnung: U
 niform - Teilnehmerkreis: alle
DTSTAMP:20260422T113105Z
DTSTART:20210918T060000Z
DTEND:20210918T160000Z
SEQUENCE:0
TRANSP:OPAQUE
END:VEVENT
END:VCALENDAR