BEGIN:VCALENDAR
VERSION:2.0
PRODID:-//jEvents 2.0 for Joomla//EN
CALSCALE:GREGORIAN
METHOD:PUBLISH
BEGIN:VEVENT
UID:CSVConvert1da86e950de3534c45961762fc3c8804
CATEGORIES:Dienstplan Jugendfeuerwehr
CREATED:20210110T212757
SUMMARY:Übung - 23 - ROT
LOCATION:Schwieberdingen
DESCRIPTION;ENCODING=QUOTED-PRINTABLE:Bemerkungen: Jerusalema Challenge / Spaß und Spiel - Anzugsordnung: Uniform
  - Teilnehmerkreis: ROT
DTSTAMP:20260421T232551Z
DTSTART:20210225T173000Z
DTEND:20210225T190000Z
SEQUENCE:0
TRANSP:OPAQUE
END:VEVENT
END:VCALENDAR