BEGIN:VCALENDAR
VERSION:2.0
PRODID:-//jEvents 2.0 for Joomla//EN
CALSCALE:GREGORIAN
METHOD:PUBLISH
BEGIN:VEVENT
UID:CSVConvert112eb5c18abc4da41ef535bff6959c76
CATEGORIES:Dienstplan Jugendfeuerwehr
CREATED:20210110T212757
SUMMARY:Übung - 31 - GELB
LOCATION:Schwieberdingen
DESCRIPTION;ENCODING=QUOTED-PRINTABLE:Bemerkungen: Jerusalema Challenge / Spaß und Spiel - Anzugsordnung: Uniform
  - Teilnehmerkreis: GELB
DTSTAMP:20260422T005123Z
DTSTART:20210304T173000Z
DTEND:20210304T190000Z
SEQUENCE:0
TRANSP:OPAQUE
END:VEVENT
END:VCALENDAR