BEGIN:VCALENDAR
VERSION:2.0
PRODID:-//jEvents 2.0 for Joomla//EN
CALSCALE:GREGORIAN
METHOD:PUBLISH
BEGIN:VEVENT
UID:AAAAAJSDktHmH+5HlTt++oiaSZEERDwA
CATEGORIES:Dienstplan Einsatzabteilung 
CREATED:20210106T204001
SUMMARY:Führungsgruppe: Führungsstellen Leitstelle u. ELW2
DESCRIPTION;ENCODING=QUOTED-PRINTABLE:
DTSTAMP:20260422T084327Z
DTSTART:20190502T180000Z
DTEND:20190502T193000Z
SEQUENCE:0
TRANSP:OPAQUE
END:VEVENT
END:VCALENDAR