BEGIN:VCALENDAR
VERSION:2.0
PRODID:-//jEvents 2.0 for Joomla//EN
CALSCALE:GREGORIAN
METHOD:PUBLISH
BEGIN:VEVENT
UID:AAAAAJSDktHmH+5HlTt++oiaSZHkQzwA
CATEGORIES:Dienstplan Einsatzabteilung 
CREATED:20210106T204000
SUMMARY:Gruppenführer + Zugführer: Einsatztaktik Hilfeleistungseinsatz
DESCRIPTION;ENCODING=QUOTED-PRINTABLE:
DTSTAMP:20260422T083637Z
DTSTART:20190429T180000Z
DTEND:20190429T193000Z
SEQUENCE:0
TRANSP:OPAQUE
END:VEVENT
END:VCALENDAR