BEGIN:VCALENDAR
VERSION:2.0
PRODID:-//jEvents 2.0 for Joomla//EN
CALSCALE:GREGORIAN
METHOD:PUBLISH
BEGIN:VEVENT
UID:AAAAAJSDktHmH+5HlTt++oiaSZHERTwA
CATEGORIES:Dienstplan Einsatzabteilung 
CREATED:20210106T204000
SUMMARY:Rot & Grün: Ordnung des Raumes
DESCRIPTION;ENCODING=QUOTED-PRINTABLE:
DTSTAMP:20260422T084512Z
DTSTART:20190715T180000Z
DTEND:20190715T193000Z
SEQUENCE:0
TRANSP:OPAQUE
END:VEVENT
END:VCALENDAR