BEGIN:VCALENDAR
VERSION:2.0
PRODID:-//jEvents 2.0 for Joomla//EN
CALSCALE:GREGORIAN
METHOD:PUBLISH
BEGIN:VEVENT
UID:4nuctk6sus3qn828lauq6leevl10acabrpnuch5oiiosi0tggtodf50ggv@google.com
CATEGORIES:Dienstplan Einsatzabteilung 
CREATED:20210106T204000
SUMMARY:Feuerwehrsport
LOCATION:Freiberg a N
DESCRIPTION;ENCODING=QUOTED-PRINTABLE:
DTSTAMP:20260422T143420Z
DTSTART:20190428T080000Z
DTEND:20190428T100000Z
SEQUENCE:0
TRANSP:OPAQUE
END:VEVENT
END:VCALENDAR