BEGIN:VCALENDAR
VERSION:2.0
PRODID:-//jEvents 2.0 for Joomla//EN
CALSCALE:GREGORIAN
METHOD:PUBLISH
BEGIN:VEVENT
UID:j1barv9apqgr0db9av0tck0ij3s56rr0bcphj63pjofjm92mq97j6s9dc4@google.com
CATEGORIES:Dienstplan Einsatzabteilung 
CREATED:20210106T204000
SUMMARY:Feuerwehrsport
LOCATION:Freiberg a N
DESCRIPTION;ENCODING=QUOTED-PRINTABLE:
DTSTAMP:20260421T120647Z
DTSTART:20191103T090000Z
DTEND:20191103T110000Z
SEQUENCE:0
TRANSP:OPAQUE
END:VEVENT
END:VCALENDAR