BEGIN:VCALENDAR
VERSION:2.0
PRODID:-//jEvents 2.0 for Joomla//EN
CALSCALE:GREGORIAN
METHOD:PUBLISH
BEGIN:VEVENT
UID:t14lc2kkkpt23rhd30arbub403ahv90in5hmiqqjhaoud1dfr3f12rq18o@google.com
CATEGORIES:Dienstplan Einsatzabteilung 
CREATED:20210106T204000
SUMMARY:Feuerwehrsport
LOCATION:Freiberg a N
DESCRIPTION;ENCODING=QUOTED-PRINTABLE:
DTSTAMP:20260421T134532Z
DTSTART:20191201T090000Z
DTEND:20191201T110000Z
SEQUENCE:0
TRANSP:OPAQUE
END:VEVENT
END:VCALENDAR