BEGIN:VCALENDAR
VERSION:2.0
PRODID:-//jEvents 2.0 for Joomla//EN
CALSCALE:GREGORIAN
METHOD:PUBLISH
BEGIN:VEVENT
UID:gc3ana76d4ok7bat87jokrm19mk125i97anro8eqhk5ve7g8ubvg1d1c1i@google.com
CATEGORIES:Dienstplan Einsatzabteilung 
CREATED:20210106T204000
SUMMARY:Feuerwehrsport
LOCATION:Freiberg a N
DESCRIPTION;ENCODING=QUOTED-PRINTABLE:
DTSTAMP:20260421T104958Z
DTSTART:20191215T090000Z
DTEND:20191215T110000Z
SEQUENCE:0
TRANSP:OPAQUE
END:VEVENT
END:VCALENDAR