BEGIN:VCALENDAR
VERSION:2.0
PRODID:-//jEvents 2.0 for Joomla//EN
CALSCALE:GREGORIAN
METHOD:PUBLISH
BEGIN:VEVENT
UID:oiua4c3bb13eqo4c0conh592k4nuumcdkkaqtal01jcs31192pgtj8lkh9@google.com
CATEGORIES:Dienstplan Einsatzabteilung 
CREATED:20210106T204000
SUMMARY:Ausschusssitzung
DESCRIPTION;ENCODING=QUOTED-PRINTABLE:
DTSTAMP:20260421T101521Z
DTSTART:20190828T180000Z
DTEND:20190828T200000Z
SEQUENCE:0
TRANSP:OPAQUE
END:VEVENT
END:VCALENDAR