BEGIN:VCALENDAR
VERSION:2.0
PRODID:-//jEvents 2.0 for Joomla//EN
CALSCALE:GREGORIAN
METHOD:PUBLISH
BEGIN:VEVENT
UID:6uhc9jmbplakstu2g7ksigjf2g97ul922oplj9rs7ju4q00kccvb16eefh@google.com
CATEGORIES:Dienstplan Einsatzabteilung 
CREATED:20210106T204000
SUMMARY:Vorstellung Schlingmann
DESCRIPTION;ENCODING=QUOTED-PRINTABLE:
DTSTAMP:20260421T115644Z
DTSTART:20191001T160000Z
DTEND:20191001T180000Z
SEQUENCE:0
TRANSP:OPAQUE
END:VEVENT
END:VCALENDAR