BEGIN:VCALENDAR
VERSION:2.0
PRODID:-//jEvents 2.0 for Joomla//EN
CALSCALE:GREGORIAN
METHOD:PUBLISH
BEGIN:VEVENT
UID:tq594egs520sq8arp746osr021jsfhmq65197uvop1i956klvvpkkr49b2@google.com
CATEGORIES:Dienstplan Einsatzabteilung 
CREATED:20210106T204000
SUMMARY:DSA Abschlusd
LOCATION:Markgröningen
DESCRIPTION;ENCODING=QUOTED-PRINTABLE:
DTSTAMP:20260421T121354Z
DTSTART:20191215T140000Z
DTEND:20191215T160000Z
SEQUENCE:0
TRANSP:OPAQUE
END:VEVENT
END:VCALENDAR