BEGIN:VCALENDAR
VERSION:2.0
PRODID:-//jEvents 2.0 for Joomla//EN
CALSCALE:GREGORIAN
METHOD:PUBLISH
BEGIN:VEVENT
UID:e7rn8kqa68hqv4tjmseqqhsd6uqdt3227fm06798kidqka8ddn8k8oere3@google.com
CATEGORIES:Dienstplan Einsatzabteilung 
CREATED:20210106T204000
SUMMARY:Neujahrsempang
DESCRIPTION;ENCODING=QUOTED-PRINTABLE:
DTSTAMP:20260421T154700Z
DTSTART;VALUE=DATE:20200119
DTEND;VALUE=DATE:20200120
SEQUENCE:0
TRANSP:OPAQUE
END:VEVENT
END:VCALENDAR