BEGIN:VCALENDAR
VERSION:2.0
PRODID:-//jEvents 2.0 for Joomla//EN
CALSCALE:GREGORIAN
METHOD:PUBLISH
BEGIN:VEVENT
UID:bknbs3odvvm3s8mk41o85ag3mg2b5bsa5hck44f3i5padd74801qd6qfsm@google.com
CATEGORIES:Dienstplan Einsatzabteilung 
CREATED:20210106T204000
SUMMARY:Towerrun Rottweil
DESCRIPTION;ENCODING=QUOTED-PRINTABLE:
DTSTAMP:20260421T162259Z
DTSTART;VALUE=DATE:20200920
DTEND;VALUE=DATE:20200921
SEQUENCE:0
TRANSP:OPAQUE
END:VEVENT
END:VCALENDAR