BEGIN:VCALENDAR
VERSION:2.0
PRODID:-//jEvents 2.0 for Joomla//EN
CALSCALE:GREGORIAN
METHOD:PUBLISH
BEGIN:VEVENT
UID:70udohu2840jj4ij8erj4oudaebaild9a6hg6empjoblchoak1ukmpqa66@google.com
CATEGORIES:Dienstplan Einsatzabteilung 
CREATED:20210106T204000
SUMMARY:Atemschutz Strecke
LOCATION:Vaihingen/Enz
DESCRIPTION;ENCODING=QUOTED-PRINTABLE:
DTSTAMP:20260421T091116Z
DTSTART:20200122T171500Z
DTEND:20200122T201500Z
SEQUENCE:0
TRANSP:OPAQUE
END:VEVENT
END:VCALENDAR