BEGIN:VCALENDAR
VERSION:2.0
PRODID:-//jEvents 2.0 for Joomla//EN
CALSCALE:GREGORIAN
METHOD:PUBLISH
BEGIN:VEVENT
UID:7eh5nqa9pmcgrnm04sd5edqi9a@google.com
CATEGORIES:Dienstplan Einsatzabteilung 
CREATED:20210106T204000
SUMMARY:Ausschuss
DESCRIPTION;ENCODING=QUOTED-PRINTABLE:
DTSTAMP:20260421T133844Z
DTSTART:20200108T190000Z
DTEND:20200108T210000Z
SEQUENCE:0
TRANSP:OPAQUE
END:VEVENT
END:VCALENDAR