BEGIN:VCALENDAR
VERSION:2.0
PRODID:-//jEvents 2.0 for Joomla//EN
CALSCALE:GREGORIAN
METHOD:PUBLISH
BEGIN:VEVENT
UID:CSVConvert2fe4088bb2c505c788edaf3a9a400504
CATEGORIES:Dienstplan Einsatzabteilung 
CREATED:20210106T204000
SUMMARY:Abnahme des dt. Sportabzeichen
LOCATION:Sportplatz Markgröningen
DESCRIPTION;ENCODING=QUOTED-PRINTABLE:Zentraler Termin zur Abnahme des dt. Sportabzeichens durch den TV Markgröni
 ngen
DTSTAMP:20260421T141421Z
DTSTART:20200718T070000Z
DTEND:20200718T140000Z
SEQUENCE:0
TRANSP:OPAQUE
END:VEVENT
END:VCALENDAR