BEGIN:VCALENDAR
VERSION:2.0
PRODID:-//jEvents 2.0 for Joomla//EN
CALSCALE:GREGORIAN
METHOD:PUBLISH
BEGIN:VEVENT
UID:CSVConvert509f3319665944d179d6cac47edff917
CATEGORIES:Dienstplan Einsatzabteilung 
CREATED:20210106T204000
SUMMARY:Feuerwehrsport
LOCATION:Kasteneckhalle in Freiberg am Neckar
DESCRIPTION;ENCODING=QUOTED-PRINTABLE:Abfahrt am Gerätehaus um 09:30 Uhr
DTSTAMP:20260421T105228Z
DTSTART:20200705T080000Z
DTEND:20200705T100000Z
SEQUENCE:0
TRANSP:OPAQUE
END:VEVENT
END:VCALENDAR