BEGIN:VCALENDAR
VERSION:2.0
PRODID:-//jEvents 2.0 for Joomla//EN
CALSCALE:GREGORIAN
METHOD:PUBLISH
BEGIN:VEVENT
UID:CSVConvert8ab22e1ce1dc74cc072f9d3d12f65e99
CATEGORIES:Dienstplan Einsatzabteilung 
CREATED:20210106T204000
SUMMARY:Feuerwehrsport
LOCATION:Kasteneckhalle in Freiberg am Neckar
DESCRIPTION;ENCODING=QUOTED-PRINTABLE:Abfahrt am Gerätehaus um 09:30 Uhr
DTSTAMP:20260421T105023Z
DTSTART:20200719T080000Z
DTEND:20200719T100000Z
SEQUENCE:0
TRANSP:OPAQUE
END:VEVENT
END:VCALENDAR