BEGIN:VCALENDAR
VERSION:2.0
PRODID:-//jEvents 2.0 for Joomla//EN
CALSCALE:GREGORIAN
METHOD:PUBLISH
BEGIN:VEVENT
UID:CSVConvertcf7f268dee811fbd14557d8bd40c83bf
CATEGORIES:Dienstplan Einsatzabteilung 
CREATED:20210106T204000
SUMMARY:Feuerwehrsport
LOCATION:Kasteneckhalle in Freiberg am Neckar
DESCRIPTION;ENCODING=QUOTED-PRINTABLE:Abfahrt am Gerätehaus um 09:30 Uhr
DTSTAMP:20260421T053822Z
DTSTART:20200216T090000Z
DTEND:20200216T110000Z
SEQUENCE:0
TRANSP:OPAQUE
END:VEVENT
END:VCALENDAR